BEGIN:VCALENDAR
VERSION:2.0
PRODID:-//PESA Wellbeing Education - ECPv6.15.20//NONSGML v1.0//EN
CALSCALE:GREGORIAN
METHOD:PUBLISH
X-WR-CALNAME:PESA Wellbeing Education
X-ORIGINAL-URL:https://www.pesa.edu.au
X-WR-CALDESC:Events for PESA Wellbeing Education
REFRESH-INTERVAL;VALUE=DURATION:PT1H
X-Robots-Tag:noindex
X-PUBLISHED-TTL:PT1H
BEGIN:VTIMEZONE
TZID:Australia/Sydney
BEGIN:STANDARD
TZOFFSETFROM:+1100
TZOFFSETTO:+1000
TZNAME:AEST
DTSTART:20240406T160000
END:STANDARD
BEGIN:DAYLIGHT
TZOFFSETFROM:+1000
TZOFFSETTO:+1100
TZNAME:AEDT
DTSTART:20241005T160000
END:DAYLIGHT
BEGIN:STANDARD
TZOFFSETFROM:+1100
TZOFFSETTO:+1000
TZNAME:AEST
DTSTART:20250405T160000
END:STANDARD
BEGIN:DAYLIGHT
TZOFFSETFROM:+1000
TZOFFSETTO:+1100
TZNAME:AEDT
DTSTART:20251004T160000
END:DAYLIGHT
BEGIN:STANDARD
TZOFFSETFROM:+1100
TZOFFSETTO:+1000
TZNAME:AEST
DTSTART:20260404T160000
END:STANDARD
BEGIN:DAYLIGHT
TZOFFSETFROM:+1000
TZOFFSETTO:+1100
TZNAME:AEDT
DTSTART:20261003T160000
END:DAYLIGHT
END:VTIMEZONE
BEGIN:VEVENT
DTSTART;TZID=Australia/Sydney:20250529T163000
DTEND;TZID=Australia/Sydney:20250529T173000
DTSTAMP:20260426T131358
CREATED:20250507T002010Z
LAST-MODIFIED:20250915T070607Z
UID:59262-1748536200-1748539800@www.pesa.edu.au
SUMMARY:Healthy Equity: Building a Teacher’s Greatest Asset
DESCRIPTION:This term 2 event is part of PESA’s “Starting Well\, Finishing Strong” professional learning program.  Term 2’s focus is: Building the foundations of wellbeing and developing healthy habits. \nHealth Equity: the New Wealth Economy \nIn 2025\, a vibrant brain and healthy body are the new form of wealth – so how do you build yours in a time poor world? The evidence is clear: how we nourish ourselves profoundly impacts immunity\, motivation\, mental health\, and resilience\, especially during stress. As we navigate new technologies\, workplace demands\, and rising burnout\, the need for complete wellbeing has never been greater.
URL:https://www.pesa.edu.au/event/healthy-equity-building-a-teachers-greatest-asset/
LOCATION:Online via Zoom
CATEGORIES:Professional Development
ATTACH;FMTTYPE=image/png:https://www.pesa.edu.au/wp-content/uploads/2025/05/HealthyEquity-3-e1746576324517.png
ORGANIZER;CN="PESA":MAILTO:contact@pesa.edu.au
END:VEVENT
END:VCALENDAR